BEGIN:VCALENDAR
VERSION:2.0
PRODID:-//eventon.com NONSGML v1.0//EN
BEGIN:VEVENT
UID:69e5883083f4a
DTSTAMP:20260420T015808
DTSTART:20250403T110000Z
DTEND:20271231T160000Z
LOCATION:
SUMMARY:Transformations: The Wasserstein Collection of Contemporary Glass
DESCRIPTION: Transformations: The Wasserstein Collection of Contemporary Glass April 3\,  2025 through December 31\,  2027 In the Museum of American Glass The Museum of American Glass at WheatonArts is excited to unveil an unprecedented gift of almost 60 artworks selected from the Linda and Henry Wasserstein collection of contemporary glass. The[..]
END:VEVENT
END:VCALENDAR