BEGIN:VCALENDAR
VERSION:2.0
PRODID:-//eventon.com NONSGML v1.0//EN
BEGIN:VEVENT
UID:69e890c99e32b
DTSTAMP:20260422T091137
DTSTART:20240504T100000Z
DTEND:20240504T160000Z
LOCATION:
SUMMARY:ECO Fair - Free Family Day!
DESCRIPTION: ECO Fair FREE on Saturday\,  May 4 from 10 a.m. to 4 p.m. In partnership with the&nbsp;Authority of Cumberland County\,  WheatonArts presents the 17th annual ECO Fair\,  a FREE Family Day event inspired by natural and artful living!&nbsp;ECO Fair\,  a campus-wide event\,  features local gardening clubs\,  including Rutgers Master Gardeners[..]
END:VEVENT
END:VCALENDAR