BEGIN:VCALENDAR
VERSION:2.0
PRODID:-//eventon.com NONSGML v1.0//EN
BEGIN:VEVENT
UID:69e8a96d76fba
DTSTAMP:20260422T105645
DTSTART:20210325T180000Z
DTEND:20210325T235000Z
LOCATION:
SUMMARY:Wheaton Conversations: Colorful Sawdust Carpets
DESCRIPTION: 6 P.M. EST ON THURSDAY\,  March 25\,  2021 Join as Maya artist Ubaldo Sanchez creates a colorful sawdust carpet inspired by Popol Vuh\,  the creation story of the Maya world. Discover how Ubaldo gives color to the sawdust and brings life to images from a rich oral tradition that pulls[..]
END:VEVENT
END:VCALENDAR