BEGIN:VCALENDAR
VERSION:2.0
PRODID:-//eventon.com NONSGML v1.0//EN
BEGIN:VEVENT
UID:69e8a9639b686
DTSTAMP:20260422T105635
DTSTART:20210227T100000Z
DTEND:20210227T235000Z
LOCATION:
SUMMARY:Germination Workshop
DESCRIPTION: 10 a.M. EST ON Saturday\,  February 27\,  2021 CU Maurice River & WheatonArts is teaming up again\,  this time to transform our entrance’s traffic circle! Funded by the National Fish and Wildlife Foundation\,  this revitalizing project will create a rain garden system and a native plant pollinator garden to help[..]
END:VEVENT
END:VCALENDAR