BEGIN:VCALENDAR
VERSION:2.0
PRODID:-//eventon.com NONSGML v1.0//EN
BEGIN:VEVENT
UID:69e9f67609abc
DTSTAMP:20260423T103742
DTSTART:20210204T180000Z
DTEND:20210204T235000Z
LOCATION:
SUMMARY:Wheaton Conversations: De La Torre Brothers
DESCRIPTION: 6 P.M. EST ON THURSDAY\,  February 4\,  2021 Engage with brothers Einar & Jamex De La Torre during this Wheaton Conversations event! Living & working on both sides of the US/Mexico border\,  their mixed media with blown glass sculpture and installation art is informed by immigrant experiences and contradicting bicultural[..]
END:VEVENT
END:VCALENDAR