BEGIN:VCALENDAR
VERSION:2.0
PRODID:-//eventon.com NONSGML v1.0//EN
BEGIN:VEVENT
UID:69e9e33bc2a8d
DTSTAMP:20260423T091539
DTSTART:20180622T183000Z
DTEND:20180622T203000Z
LOCATION:
SUMMARY:Studio Wide Open
DESCRIPTION: Meet the Spring 2018 Creative Glass Center of America (CGCA) Fellowship recipients! Studio Wide Open is a FREE after-hours event offering visitors the chance to experience a unique collaborative demonstration and personal look at the creative process with a "behind the scenes" studio tour. Located in the WheatonArts Glass Studio[..]
END:VEVENT
END:VCALENDAR