BEGIN:VCALENDAR
VERSION:2.0
PRODID:-//eventon.com NONSGML v1.0//EN
BEGIN:VEVENT
UID:69e8a549cf5cb
DTSTAMP:20260422T103905
DTSTART:20180707T100000Z
DTEND:20180805T170000Z
LOCATION:
SUMMARY:20 Years of Excellence: Celebrating the Festival of Fine Craft Artists
DESCRIPTION: The Gallery of Fine Craft is proud to display a sneak-peak exhibition honoring our long-time Festival artists\,  as this year celebrates the 20th anniversary of the Festival of Fine Craft at WheatonArts. The exhibit showcases 16 artists who have participated since the Festival’s start in 1998. “20 Years of Excellence” is open in the[..]
END:VEVENT
END:VCALENDAR