BEGIN:VCALENDAR
VERSION:2.0
PRODID:-//eventon.com NONSGML v1.0//EN
BEGIN:VEVENT
UID:69e4cb1daf851
DTSTAMP:20260419T123125
DTSTART:20171111T110000Z
DTEND:20171111T153000Z
LOCATION:
SUMMARY:Clay Bowls Slabs and Slumpings
DESCRIPTION: Join the FUN and CREATE with us! WheatonArts offers one hour\,  FREE family workshops on select Saturdays. Times available during 11 am - 3:30 pm. Please call 856-825-6800 or register online.
END:VEVENT
END:VCALENDAR