BEGIN:VCALENDAR
VERSION:2.0
PRODID:-//eventon.com NONSGML v1.0//EN
BEGIN:VEVENT
UID:69eb6bd1cf5bb
DTSTAMP:20260424T131041
DTSTART:20160401T100000Z
DTEND:20161231T170000Z
LOCATION:
SUMMARY:Mine Moonlight: Artists Working in Philadelphia's River Wards
DESCRIPTION: Museum of American Glass at WheatonArts; April 1\,  2016 – December 31\,  2016 An exhibit of contemporary artworks that speak to the history beneath the feet of artists working in the Riverwards neighborhoods of northern Philadelphia. Exploring the themes of hand craft\,  functionality\,  and fragmentation\,  these 10 installations draw connections[..]
END:VEVENT
END:VCALENDAR